BEGIN:VCALENDAR
VERSION:2.0
PRODID:spatie/icalendar-generator
DESCRIPTION:Events from Maui improv
X-WR-CALDESC:Events from Maui improv
REFRESH-INTERVAL;VALUE=DURATION:PT1440M
X-PUBLISHED-TTL:PT1440M
BEGIN:VTIMEZONE
TZID:Etc/GMT+10
BEGIN:STANDARD
DTSTART:20240131T190000Z
TZOFFSETFROM:-1000
TZOFFSETTO:-1000
END:STANDARD
END:VTIMEZONE
BEGIN:VTIMEZONE
TZID:UTC
BEGIN:STANDARD
DTSTART:20250724T194234Z
TZOFFSETFROM:+0000
TZOFFSETTO:+0000
END:STANDARD
END:VTIMEZONE
BEGIN:VEVENT
UID:55-15
DTSTAMP:20260420T194234Z
SUMMARY:Maui Improv October Players Showcase
LOCATION:ProArts 1280 S Kihei Rd  Kihei HI 96753
ORGANIZER;CN=admin:MAILTO:admin@mauiimprov.org
DTSTART;TZID=Etc/GMT+10:20241027T190000
DTEND;TZID=Etc/GMT+10:20241027T203000
X-ALT-DESC;FMTTYPE=TEXT/HTML:Another fun-filled evening of made-up-on-the-s
 pot MAUI IMPROV! Come on down\, Sunday night\, October 27th at 7pm to the 
 ProArts Playhouse in Kihei. We'll laugh with you then! Advance tickets at 
 the ProArts on Maui box office and Eventbrite and at the door the night of
  the show! Doors open at 6:30pm\, show gets underway at&amp;hellip\;
CATEGORIES:Shows
URL;VALUE=URI:https://mauiimprov.org/mc-events/maui-improv-october-players-
 showcase/
METHOD:PUBLISH
END:VEVENT
END:VCALENDAR